BEGIN:VCALENDAR
VERSION:2.0
PRODID:-//Taproot Brewing Company - ECPv6.15.20//NONSGML v1.0//EN
CALSCALE:GREGORIAN
METHOD:PUBLISH
X-WR-CALNAME:Taproot Brewing Company
X-ORIGINAL-URL:https://taprootbeer.com
X-WR-CALDESC:Events for Taproot Brewing Company
REFRESH-INTERVAL;VALUE=DURATION:PT1H
X-Robots-Tag:noindex
X-PUBLISHED-TTL:PT1H
BEGIN:VTIMEZONE
TZID:America/New_York
BEGIN:DAYLIGHT
TZOFFSETFROM:-0500
TZOFFSETTO:-0400
TZNAME:EDT
DTSTART:20250309T070000
END:DAYLIGHT
BEGIN:STANDARD
TZOFFSETFROM:-0400
TZOFFSETTO:-0500
TZNAME:EST
DTSTART:20251102T060000
END:STANDARD
BEGIN:DAYLIGHT
TZOFFSETFROM:-0500
TZOFFSETTO:-0400
TZNAME:EDT
DTSTART:20260308T070000
END:DAYLIGHT
BEGIN:STANDARD
TZOFFSETFROM:-0400
TZOFFSETTO:-0500
TZNAME:EST
DTSTART:20261101T060000
END:STANDARD
BEGIN:DAYLIGHT
TZOFFSETFROM:-0500
TZOFFSETTO:-0400
TZNAME:EDT
DTSTART:20270314T070000
END:DAYLIGHT
BEGIN:STANDARD
TZOFFSETFROM:-0400
TZOFFSETTO:-0500
TZNAME:EST
DTSTART:20271107T060000
END:STANDARD
END:VTIMEZONE
BEGIN:VEVENT
DTSTART;VALUE=DATE:20260422
DTEND;VALUE=DATE:20260423
DTSTAMP:20260422T024539
CREATED:20240201T020240Z
LAST-MODIFIED:20260418T133528Z
UID:13629746-1776816000-1776902399@taprootbeer.com
SUMMARY:Wednesday Flight Special!
DESCRIPTION:Roll in every Wednesday for discounted ($15) wine or beer flights – now ALL DAY! \nPlus! Board games\, and fire pits on the terrace! We have limited blankets\, feel free to bring your own! \nAfter you enjoy\, bring your receipt to the store and receive $5 off $25 in our retail shop! Applicable on wine\, beer\, merchandise\, and gifts. \nFire pits and bar service are first come\, first serve (no reservations). For dining indoors\, reservations are recommended. \nBOOK HERE
URL:https://taprootbeer.com/event/wednesday-flight-special/2026-04-22/
LOCATION:Newport Vineyards\, 909 East Main Road\, Middletown\, RI\, 02842\, United States
CATEGORIES:Brewery,Specials
ATTACH;FMTTYPE=image/jpeg:https://taprootbeer.com/wp-content/uploads/2025/02/DSC03306-scaled-e1776519281241.jpg
ORGANIZER;CN="Newport Vineyards":MAILTO:info@newportvineyards.com
END:VEVENT
BEGIN:VEVENT
DTSTART;TZID=America/New_York:20260422T180000
DTEND;TZID=America/New_York:20260422T200000
DTSTAMP:20260422T024539
CREATED:20260407T151117Z
LAST-MODIFIED:20260421T173907Z
UID:13629711-1776880800-1776888000@taprootbeer.com
SUMMARY:Trivia Wednesdays!
DESCRIPTION:Trivia is now on Wednesday Nights!\nBring your friends and your thinking cap for a round of beverages\, bites\, and a good ‘ole game of trivia. \nHosted by Andrew from McCaughey Standard Trivia\, trivia will be 5 rounds of various topics\, beginning at 6pm and lasting 2 hours. There will be prizes! \nReservations recommended – please note ‘trivia’ in the reservation notes! \nRESERVE A TABLE HERE \nEarly arrival welcome\, we’re open all day! \nPlease\, no outside food\, drinks\, or pets.
URL:https://taprootbeer.com/event/trivia-wednesdays/2026-04-22/
ATTACH;FMTTYPE=image/jpeg:https://taprootbeer.com/wp-content/uploads/2025/10/DSC00554-1.jpg
END:VEVENT
END:VCALENDAR